BEGIN:VCALENDAR
VERSION:2.0
PRODID:-//hacksw/handcal//NONSGML v1.0//EN
CALSCALE:GREGORIAN
BEGIN:VEVENT
SUMMARY:AGUR ETXEBESTE!
LOCATION:Gezala Auditoriuma
DTSTART:20200118T183000Z
DESCRIPTION:
URL;VALUE=URI:https://azkena.lezo.eus/eu/agenda/agur-etxebeste
DTSTAMP:20260421T071208Z
UID:69e707284bb38
END:VEVENT
END:VCALENDAR