BEGIN:VCALENDAR
VERSION:2.0
PRODID:-//hacksw/handcal//NONSGML v1.0//EN
CALSCALE:GREGORIAN
BEGIN:VEVENT
SUMMARY:LA VOZ DE IÑAKI
LOCATION:Gezala Auditoriuma
DTSTART:20200213T183000Z
DESCRIPTION:
URL;VALUE=URI:https://azkena.lezo.eus/eu/agenda/la-voz-de-inaki
DTSTAMP:20260421T071209Z
UID:69e70729f2b76
END:VEVENT
END:VCALENDAR