BEGIN:VCALENDAR
VERSION:2.0
PRODID:-//hacksw/handcal//NONSGML v1.0//EN
CALSCALE:GREGORIAN
BEGIN:VEVENT
SUMMARY:TOMBOY
LOCATION:Gezala Auditoriuma
DTSTART:20200208T183000Z
DESCRIPTION:
URL;VALUE=URI:https://azkena.lezo.eus/eu/node/101306
DTSTAMP:20260421T052449Z
UID:69e6ee01898c0
END:VEVENT
END:VCALENDAR