BEGIN:VCALENDAR
VERSION:2.0
PRODID:-//hacksw/handcal//NONSGML v1.0//EN
CALSCALE:GREGORIAN
BEGIN:VEVENT
SUMMARY:MR. LINK: JATORRI GALDUA
LOCATION:Gezala Auditoriuma
DTSTART:20200516T150000Z
DESCRIPTION:
URL;VALUE=URI:https://azkena.lezo.eus/eu/node/101355
DTSTAMP:20260421T040500Z
UID:69e6db4c11c0f
END:VEVENT
END:VCALENDAR