BEGIN:VCALENDAR
VERSION:2.0
PRODID:-//hacksw/handcal//NONSGML v1.0//EN
CALSCALE:GREGORIAN
BEGIN:VEVENT
SUMMARY:OILAR BAT DAGO ZURE TEILATUAN 
LOCATION:Gezala Auditoriuma
DTSTART:20200522T151500Z
DESCRIPTION:
URL;VALUE=URI:https://azkena.lezo.eus/eu/node/101358
DTSTAMP:20260421T052447Z
UID:69e6edffb1099
END:VEVENT
END:VCALENDAR