BEGIN:VCALENDAR
VERSION:2.0
PRODID:-//hacksw/handcal//NONSGML v1.0//EN
CALSCALE:GREGORIAN
BEGIN:VEVENT
SUMMARY:EUROPA TRANSIT
LOCATION:Gezala Auditoriuma
DTSTART:20200425T173000Z
DESCRIPTION:
URL;VALUE=URI:https://azkena.lezo.eus/eu/node/101383
DTSTAMP:20260421T054428Z
UID:69e6f29c9b97c
END:VEVENT
END:VCALENDAR