BEGIN:VCALENDAR
VERSION:2.0
PRODID:-//hacksw/handcal//NONSGML v1.0//EN
CALSCALE:GREGORIAN
BEGIN:VEVENT
SUMMARY:EZ\, ESKERRIK ASKO (GLADYSEN LEIHOA)
LOCATION:Gezala Auditoriuma
DTSTART:20200516T173000Z
DESCRIPTION:
URL;VALUE=URI:https://azkena.lezo.eus/eu/agenda/ez-eskerrik-asko-gladysen-leihoa
DTSTAMP:20260421T053112Z
UID:69e6ef8078b4b
END:VEVENT
END:VCALENDAR