BEGIN:VCALENDAR
VERSION:2.0
PRODID:-//hacksw/handcal//NONSGML v1.0//EN
CALSCALE:GREGORIAN
BEGIN:VEVENT
SUMMARY:FRESA Y CHOCOLATE
LOCATION:Gezala Auditoriuma
DTSTART:20200510T180000Z
DESCRIPTION:
URL;VALUE=URI:https://azkena.lezo.eus/eu/node/101393
DTSTAMP:20260421T052350Z
UID:69e6edc6f0c08
END:VEVENT
END:VCALENDAR