BEGIN:VCALENDAR
VERSION:2.0
PRODID:-//hacksw/handcal//NONSGML v1.0//EN
CALSCALE:GREGORIAN
BEGIN:VEVENT
SUMMARY:BLOCK / MEETING POINT
LOCATION:Goiko Plaza
DTSTART:20200531T180000Z
DESCRIPTION:
URL;VALUE=URI:https://azkena.lezo.eus/eu/agenda/block-meeting-point
DTSTAMP:20260421T091906Z
UID:69e724ea8fee3
END:VEVENT
END:VCALENDAR