BEGIN:VCALENDAR
VERSION:2.0
PRODID:-//hacksw/handcal//NONSGML v1.0//EN
CALSCALE:GREGORIAN
BEGIN:VEVENT
SUMMARY:Markeliñe Teatroa "Crusoe"
LOCATION:Lezo Herri Eskolako patioa
DTSTART:20200821T210000Z
DESCRIPTION:
URL;VALUE=URI:https://azkena.lezo.eus/eu/agenda/markeline-teatroa-crusoe
DTSTAMP:20260421T054447Z
UID:69e6f2af11563
END:VEVENT
END:VCALENDAR