BEGIN:VCALENDAR
VERSION:2.0
PRODID:-//hacksw/handcal//NONSGML v1.0//EN
CALSCALE:GREGORIAN
BEGIN:VEVENT
SUMMARY:Trapu Zaharra "Turistreatzen"
LOCATION:Lezo Herri Eskolako patioa
DTSTART:20200828T210000Z
DESCRIPTION:
URL;VALUE=URI:https://azkena.lezo.eus/eu/agenda/trapu-zaharra-turistreatzen
DTSTAMP:20260421T053036Z
UID:69e6ef5caa17f
END:VEVENT
END:VCALENDAR