BEGIN:VCALENDAR
VERSION:2.0
PRODID:-//hacksw/handcal//NONSGML v1.0//EN
CALSCALE:GREGORIAN
BEGIN:VEVENT
SUMMARY:Murixka Dantza Taldea
LOCATION:Lezo Herri Eskolako patioa
DTSTART:20200904T210000Z
DESCRIPTION:
URL;VALUE=URI:https://azkena.lezo.eus/eu/agenda/murixka-dantza-taldea
DTSTAMP:20260421T035033Z
UID:69e6d7e9a62f5
END:VEVENT
END:VCALENDAR