BEGIN:VCALENDAR
VERSION:2.0
PRODID:-//hacksw/handcal//NONSGML v1.0//EN
CALSCALE:GREGORIAN
BEGIN:VEVENT
SUMMARY:"Turistreatzen"
LOCATION:Eskolako patioa
DTSTART:20200828T210000Z
DESCRIPTION:
URL;VALUE=URI:https://azkena.lezo.eus/es/agenda/turistreatzen
DTSTAMP:20260421T034210Z
UID:69e6d5f2dd571
END:VEVENT
END:VCALENDAR