BEGIN:VCALENDAR
VERSION:2.0
PRODID:-//hacksw/handcal//NONSGML v1.0//EN
CALSCALE:GREGORIAN
BEGIN:VEVENT
SUMMARY:"Crusoe"
LOCATION:Eskolako Patioa
DTSTART:20200821T210000Z
DESCRIPTION:
URL;VALUE=URI:https://azkena.lezo.eus/es/agenda/crusoe
DTSTAMP:20260421T052351Z
UID:69e6edc70cde7
END:VEVENT
END:VCALENDAR