BEGIN:VCALENDAR
VERSION:2.0
PRODID:-//hacksw/handcal//NONSGML v1.0//EN
CALSCALE:GREGORIAN
BEGIN:VEVENT
SUMMARY:Lezo Kilometro Zero: hurbiltasunaren kultura
LOCATION:
DTSTART:20200828T210000Z
DESCRIPTION:
URL;VALUE=URI:https://azkena.lezo.eus/es/agenda/lezo-kilometro-zero-hurbiltasunaren-kultura
DTSTAMP:20260421T054532Z
UID:69e6f2dc0b187
END:VEVENT
END:VCALENDAR