BEGIN:VCALENDAR
VERSION:2.0
PRODID:-//hacksw/handcal//NONSGML v1.0//EN
CALSCALE:GREGORIAN
BEGIN:VEVENT
SUMMARY:La Celestina 
LOCATION:Gezala Auditoriuma
DTSTART:20201004T180000Z
DESCRIPTION:
URL;VALUE=URI:https://azkena.lezo.eus/eu/agenda/la-celestina
DTSTAMP:20260421T121843Z
UID:69e74f038bab9
END:VEVENT
END:VCALENDAR