BEGIN:VCALENDAR
VERSION:2.0
PRODID:-//hacksw/handcal//NONSGML v1.0//EN
CALSCALE:GREGORIAN
BEGIN:VEVENT
SUMMARY:Urbasa
LOCATION:Lezo Herri Eskolako patioa
DTSTART:20201018T180000Z
DESCRIPTION:
URL;VALUE=URI:https://azkena.lezo.eus/eu/agenda/urbasa
DTSTAMP:20260421T040951Z
UID:69e6dc6f72ae1
END:VEVENT
END:VCALENDAR