BEGIN:VCALENDAR
VERSION:2.0
PRODID:-//hacksw/handcal//NONSGML v1.0//EN
CALSCALE:GREGORIAN
BEGIN:VEVENT
SUMMARY:La isla
LOCATION:Gezala Auditoriuma
DTSTART:20201108T183000Z
DESCRIPTION:
URL;VALUE=URI:https://azkena.lezo.eus/eu/agenda/la-isla-0
DTSTAMP:20260421T054537Z
UID:69e6f2e16033a
END:VEVENT
END:VCALENDAR