BEGIN:VCALENDAR
VERSION:2.0
PRODID:-//hacksw/handcal//NONSGML v1.0//EN
CALSCALE:GREGORIAN
BEGIN:VEVENT
SUMMARY:Desahucia2
LOCATION:Gezala Auditoriuma
DTSTART:20201115T183000Z
DESCRIPTION:
URL;VALUE=URI:https://azkena.lezo.eus/eu/agenda/desahucia2
DTSTAMP:20260421T054441Z
UID:69e6f2a9addad
END:VEVENT
END:VCALENDAR