BEGIN:VCALENDAR
VERSION:2.0
PRODID:-//hacksw/handcal//NONSGML v1.0//EN
CALSCALE:GREGORIAN
BEGIN:VEVENT
SUMMARY:Safari
LOCATION:Gezala Auditoriuma
DTSTART:20201113T161500Z
DESCRIPTION:
URL;VALUE=URI:https://azkena.lezo.eus/eu/agenda/safari-0
DTSTAMP:20260421T054516Z
UID:69e6f2ccc772c
END:VEVENT
END:VCALENDAR