BEGIN:VCALENDAR
VERSION:2.0
PRODID:-//hacksw/handcal//NONSGML v1.0//EN
CALSCALE:GREGORIAN
BEGIN:VEVENT
SUMMARY:Shakespeare en Berlín
LOCATION:Gezala Auditoriuma
DTSTART:20210418T173000Z
DESCRIPTION:
URL;VALUE=URI:https://azkena.lezo.eus/eu/agenda/shakespeare-en-berlin
DTSTAMP:20260422T113721Z
UID:69e896d1b5ca2
END:VEVENT
END:VCALENDAR