BEGIN:VCALENDAR
VERSION:2.0
PRODID:-//hacksw/handcal//NONSGML v1.0//EN
CALSCALE:GREGORIAN
BEGIN:VEVENT
SUMMARY:Cabezas de cartel
LOCATION:Gezala Auditoriuma
DTSTART:20210509T173000Z
DESCRIPTION:
URL;VALUE=URI:https://azkena.lezo.eus/eu/agenda/cabezas-de-cartel
DTSTAMP:20260421T022214Z
UID:69e6c3365e728
END:VEVENT
END:VCALENDAR