BEGIN:VCALENDAR
VERSION:2.0
PRODID:-//hacksw/handcal//NONSGML v1.0//EN
CALSCALE:GREGORIAN
BEGIN:VEVENT
SUMMARY:Turuleka oiloa
LOCATION:Gezala Auditoriuma
DTSTART:20210213T153000Z
DESCRIPTION:
URL;VALUE=URI:https://azkena.lezo.eus/eu/agenda/turuleka-oiloa
DTSTAMP:20260421T022219Z
UID:69e6c33b600c0
END:VEVENT
END:VCALENDAR