BEGIN:VCALENDAR
VERSION:2.0
PRODID:-//hacksw/handcal//NONSGML v1.0//EN
CALSCALE:GREGORIAN
BEGIN:VEVENT
SUMMARY:Alfonbra magikoa
LOCATION:Gezala Auditoriuma
DTSTART:20210306T153000Z
DESCRIPTION:
URL;VALUE=URI:https://azkena.lezo.eus/eu/agenda/alfonbra-magikoa
DTSTAMP:20260421T091856Z
UID:69e724e0015b9
END:VEVENT
END:VCALENDAR