BEGIN:VCALENDAR
VERSION:2.0
PRODID:-//hacksw/handcal//NONSGML v1.0//EN
CALSCALE:GREGORIAN
BEGIN:VEVENT
SUMMARY:2 urte\, lau hilabete eta egun bat
LOCATION:Gezala Auditoriuma
DTSTART:20210213T180000Z
DESCRIPTION:
URL;VALUE=URI:https://azkena.lezo.eus/eu/agenda/2-urte-lau-hilabete-eta-egun-bat
DTSTAMP:20260421T091821Z
UID:69e724bd507ae
END:VEVENT
END:VCALENDAR