BEGIN:VCALENDAR
VERSION:2.0
PRODID:-//hacksw/handcal//NONSGML v1.0//EN
CALSCALE:GREGORIAN
BEGIN:VEVENT
SUMMARY:Erlauntza
LOCATION:Gezala Auditoriuma
DTSTART:20210424T170000Z
DESCRIPTION:
URL;VALUE=URI:https://azkena.lezo.eus/eu/agenda/erlauntza
DTSTAMP:20260421T052436Z
UID:69e6edf43ce65
END:VEVENT
END:VCALENDAR