BEGIN:VCALENDAR
VERSION:2.0
PRODID:-//hacksw/handcal//NONSGML v1.0//EN
CALSCALE:GREGORIAN
BEGIN:VEVENT
SUMMARY:Xampatito Pato "Só"
LOCATION:Lezo Herri Eskolako patioa
DTSTART:20210820T180000Z
DESCRIPTION:
URL;VALUE=URI:https://azkena.lezo.eus/eu/agenda/xampatito-pato-so
DTSTAMP:20260421T004557Z
UID:69e6aca5a8615
END:VEVENT
END:VCALENDAR