BEGIN:VCALENDAR
VERSION:2.0
PRODID:-//hacksw/handcal//NONSGML v1.0//EN
CALSCALE:GREGORIAN
BEGIN:VEVENT
SUMMARY:Murixka - euskal dantza
LOCATION:Bekoerrota kiroldegia
DTSTART:20210611T170000Z
DESCRIPTION:
URL;VALUE=URI:https://azkena.lezo.eus/eu/agenda/murixka-euskal-dantza
DTSTAMP:20260421T073635Z
UID:69e70ce37104d
END:VEVENT
END:VCALENDAR