BEGIN:VCALENDAR
VERSION:2.0
PRODID:-//hacksw/handcal//NONSGML v1.0//EN
CALSCALE:GREGORIAN
BEGIN:VEVENT
SUMMARY:Laila Tafur "Monstruo"
LOCATION:Lezo Herri Eskolako patioa
DTSTART:20210903T210000Z
DESCRIPTION:
URL;VALUE=URI:https://azkena.lezo.eus/eu/agenda/laila-tafur-monstruo
DTSTAMP:20260421T091857Z
UID:69e724e105aee
END:VEVENT
END:VCALENDAR