BEGIN:VCALENDAR
VERSION:2.0
PRODID:-//hacksw/handcal//NONSGML v1.0//EN
CALSCALE:GREGORIAN
BEGIN:VEVENT
SUMMARY:Haur erbesteratuak
LOCATION:Gezala Auditoriuma
DTSTART:20210916T173000Z
DESCRIPTION:
URL;VALUE=URI:https://azkena.lezo.eus/eu/agenda/haur-erbesteratuak
DTSTAMP:20260421T020437Z
UID:69e6bf15be136
END:VEVENT
END:VCALENDAR