BEGIN:VCALENDAR
VERSION:2.0
PRODID:-//hacksw/handcal//NONSGML v1.0//EN
CALSCALE:GREGORIAN
BEGIN:VEVENT
SUMMARY:Réquiem por un campesino español
LOCATION:Gezala Auditoriuma
DTSTART:20210926T180000Z
DESCRIPTION:
URL;VALUE=URI:https://azkena.lezo.eus/eu/agenda/requiem-por-un-campesino-espanol
DTSTAMP:20260420T224621Z
UID:69e6909daf9fe
END:VEVENT
END:VCALENDAR