BEGIN:VCALENDAR
VERSION:2.0
PRODID:-//hacksw/handcal//NONSGML v1.0//EN
CALSCALE:GREGORIAN
BEGIN:VEVENT
SUMMARY:POESIA KAIA. Errezitaldia eta Elkarrizketa
LOCATION:Gezala Auditorium
DTSTART:20211118T183000Z
DESCRIPTION:
URL;VALUE=URI:https://azkena.lezo.eus/eu/agenda/poesia-kaia-errezitaldia-eta-elkarrizketa
DTSTAMP:20260421T040440Z
UID:69e6db381fdb7
END:VEVENT
END:VCALENDAR