BEGIN:VCALENDAR
VERSION:2.0
PRODID:-//hacksw/handcal//NONSGML v1.0//EN
CALSCALE:GREGORIAN
BEGIN:VEVENT
SUMMARY:Dead
LOCATION:Gezala Auditoriuma
DTSTART:20211017T180000Z
DESCRIPTION:
URL;VALUE=URI:https://azkena.lezo.eus/eu/agenda/dead
DTSTAMP:20260420T224431Z
UID:69e6902f2c599
END:VEVENT
END:VCALENDAR