BEGIN:VCALENDAR
VERSION:2.0
PRODID:-//hacksw/handcal//NONSGML v1.0//EN
CALSCALE:GREGORIAN
BEGIN:VEVENT
SUMMARY:Lubaki lainotsua
LOCATION:Gezala Auditoriuma
DTSTART:20220206T190000Z
DESCRIPTION:
URL;VALUE=URI:https://azkena.lezo.eus/eu/agenda/lubaki-lainotsua
DTSTAMP:20260421T091843Z
UID:69e724d397c6d
END:VEVENT
END:VCALENDAR