BEGIN:VCALENDAR
VERSION:2.0
PRODID:-//hacksw/handcal//NONSGML v1.0//EN
CALSCALE:GREGORIAN
BEGIN:VEVENT
SUMMARY:Hamaika
LOCATION:Gezala Auditoriuma
DTSTART:20220424T180000Z
DESCRIPTION:
URL;VALUE=URI:https://azkena.lezo.eus/eu/agenda/hamaika
DTSTAMP:20260420T223642Z
UID:69e68e5a07a8f
END:VEVENT
END:VCALENDAR