BEGIN:VCALENDAR
VERSION:2.0
PRODID:-//hacksw/handcal//NONSGML v1.0//EN
CALSCALE:GREGORIAN
BEGIN:VEVENT
SUMMARY:Frankismoak zigortutako maisu-maistrei omenaldia
LOCATION:Herri Eskola kanpoaldean
DTSTART:20220320T113000Z
DESCRIPTION:
URL;VALUE=URI:https://azkena.lezo.eus/eu/agenda/frankismoak-zigortutako-maisu-maistrei-omenaldia
DTSTAMP:20260421T004542Z
UID:69e6ac96c4aa9
END:VEVENT
END:VCALENDAR