BEGIN:VCALENDAR
VERSION:2.0
PRODID:-//hacksw/handcal//NONSGML v1.0//EN
CALSCALE:GREGORIAN
BEGIN:VEVENT
SUMMARY:"Paréntesis" liburuaren aurkezpena
LOCATION:Gezala Auditoriuma
DTSTART:20220429T173000Z
DESCRIPTION:
URL;VALUE=URI:https://azkena.lezo.eus/eu/agenda/parentesis-liburuaren-aurkezpena
DTSTAMP:20260421T004612Z
UID:69e6acb4ab66a
END:VEVENT
END:VCALENDAR