BEGIN:VCALENDAR
VERSION:2.0
PRODID:-//hacksw/handcal//NONSGML v1.0//EN
CALSCALE:GREGORIAN
BEGIN:VEVENT
SUMMARY:Nunavut
LOCATION:Lezo Herri Eskolako patioa
DTSTART:20220819T180000Z
DESCRIPTION:
URL;VALUE=URI:https://azkena.lezo.eus/eu/agenda/nunavut
DTSTAMP:20260421T003034Z
UID:69e6a90ad7914
END:VEVENT
END:VCALENDAR