BEGIN:VCALENDAR
VERSION:2.0
PRODID:-//hacksw/handcal//NONSGML v1.0//EN
CALSCALE:GREGORIAN
BEGIN:VEVENT
SUMMARY:Memoria
LOCATION:Gezala Auditoriuma
DTSTART:20220925T180000Z
DESCRIPTION:
URL;VALUE=URI:https://azkena.lezo.eus/eu/agenda/memoria
DTSTAMP:20260421T020434Z
UID:69e6bf12e6ff1
END:VEVENT
END:VCALENDAR