BEGIN:VCALENDAR
VERSION:2.0
PRODID:-//hacksw/handcal//NONSGML v1.0//EN
CALSCALE:GREGORIAN
BEGIN:VEVENT
SUMMARY:Serrana
LOCATION:Gezala Auditoriuma
DTSTART:20221106T190000Z
DESCRIPTION:
URL;VALUE=URI:https://azkena.lezo.eus/eu/agenda/serrana
DTSTAMP:20260420T171918Z
UID:69e643f6dc9e2
END:VEVENT
END:VCALENDAR