BEGIN:VCALENDAR
VERSION:2.0
PRODID:-//hacksw/handcal//NONSGML v1.0//EN
CALSCALE:GREGORIAN
BEGIN:VEVENT
SUMMARY:Perez Sagutxoa
LOCATION:Gezala Auditoriuma
DTSTART:20221118T161500Z
DESCRIPTION:
URL;VALUE=URI:https://azkena.lezo.eus/eu/agenda/perez-sagutxoa
DTSTAMP:20260421T020435Z
UID:69e6bf1349ec2
END:VEVENT
END:VCALENDAR