BEGIN:VCALENDAR
VERSION:2.0
PRODID:-//hacksw/handcal//NONSGML v1.0//EN
CALSCALE:GREGORIAN
BEGIN:VEVENT
SUMMARY:Poesia emanaldia
LOCATION:Gezala Auditoriuma
DTSTART:20221122T183000Z
DESCRIPTION:
URL;VALUE=URI:https://azkena.lezo.eus/eu/agenda/poesia-emanaldia
DTSTAMP:20260420T205717Z
UID:69e6770d20ecf
END:VEVENT
END:VCALENDAR