BEGIN:VCALENDAR
VERSION:2.0
PRODID:-//hacksw/handcal//NONSGML v1.0//EN
CALSCALE:GREGORIAN
BEGIN:VEVENT
SUMMARY:Apaiz kartzela
LOCATION:Gezala Auditoriuma
DTSTART:20230121T180000Z
DESCRIPTION:
URL;VALUE=URI:https://azkena.lezo.eus/eu/agenda/apaiz-kartzela
DTSTAMP:20260421T023400Z
UID:69e6c5f86c0e4
END:VEVENT
END:VCALENDAR