BEGIN:VCALENDAR
VERSION:2.0
PRODID:-//hacksw/handcal//NONSGML v1.0//EN
CALSCALE:GREGORIAN
BEGIN:VEVENT
SUMMARY:Lezoko Aurresku Txapelketa
LOCATION:Gezala Auditorima
DTSTART:20230429T143000Z
DESCRIPTION:
URL;VALUE=URI:https://azkena.lezo.eus/eu/agenda/lezoko-aurresku-txapelketa
DTSTAMP:20260420T140337Z
UID:69e61619c0405
END:VEVENT
END:VCALENDAR