BEGIN:VCALENDAR
VERSION:2.0
PRODID:-//hacksw/handcal//NONSGML v1.0//EN
CALSCALE:GREGORIAN
BEGIN:VEVENT
SUMMARY:Hobe ixilik!
LOCATION:Gezala Auditoriuma
DTSTART:20231008T173000Z
DESCRIPTION:
URL;VALUE=URI:https://azkena.lezo.eus/eu/node/103618
DTSTAMP:20260420T202609Z
UID:69e66fc15ff1b
END:VEVENT
END:VCALENDAR