BEGIN:VCALENDAR
VERSION:2.0
PRODID:-//hacksw/handcal//NONSGML v1.0//EN
CALSCALE:GREGORIAN
BEGIN:VEVENT
SUMMARY:Antzerki testu laburren lehiaketa
LOCATION:Lezo Herri Eskolako patioa
DTSTART:20231007T173000Z
DESCRIPTION:
URL;VALUE=URI:https://azkena.lezo.eus/eu/node/103638
DTSTAMP:20260420T134449Z
UID:69e611b183f4f
END:VEVENT
END:VCALENDAR