BEGIN:VCALENDAR
VERSION:2.0
PRODID:-//hacksw/handcal//NONSGML v1.0//EN
CALSCALE:GREGORIAN
BEGIN:VEVENT
SUMMARY:Hasta que la muerte nos separe
LOCATION:Gezala Auditoriuma
DTSTART:20240128T183000Z
DESCRIPTION:
URL;VALUE=URI:https://azkena.lezo.eus/eu/node/103788
DTSTAMP:20260420T103028Z
UID:69e5e4242bec4
END:VEVENT
END:VCALENDAR