BEGIN:VCALENDAR
VERSION:2.0
PRODID:-//hacksw/handcal//NONSGML v1.0//EN
CALSCALE:GREGORIAN
BEGIN:VEVENT
SUMMARY:Apotheósis Buffo
LOCATION:Gezala Auditoriuma
DTSTART:20240303T183000Z
DESCRIPTION:
URL;VALUE=URI:https://azkena.lezo.eus/eu/node/103807
DTSTAMP:20260420T083304Z
UID:69e5c8a000fa3
END:VEVENT
END:VCALENDAR