BEGIN:VCALENDAR
VERSION:2.0
PRODID:-//hacksw/handcal//NONSGML v1.0//EN
CALSCALE:GREGORIAN
BEGIN:VEVENT
SUMMARY:¡Dale Ramón!
LOCATION:Lopene plaza
DTSTART:20240823T180000Z
DESCRIPTION:
URL;VALUE=URI:https://azkena.lezo.eus/eu/KmLezo/%C2%A1Dale%20Ram%C3%B3n%21
DTSTAMP:20260420T160827Z
UID:69e6335b85c5b
END:VEVENT
END:VCALENDAR