BEGIN:VCALENDAR
VERSION:2.0
PRODID:-//hacksw/handcal//NONSGML v1.0//EN
CALSCALE:GREGORIAN
BEGIN:VEVENT
SUMMARY:Ubu errege
LOCATION:Lezo Herri Eskolako patioa
DTSTART:20240824T200000Z
DESCRIPTION:
URL;VALUE=URI:https://azkena.lezo.eus/eu/KmLezo/Ubu%20errege
DTSTAMP:20260420T103011Z
UID:69e5e4138eb0e
END:VEVENT
END:VCALENDAR